BEGIN:VCALENDAR
VERSION:2.0
PRODID:-//Miller's Point Neighborhood Association, Inc - ECPv6.15.4//NONSGML v1.0//EN
CALSCALE:GREGORIAN
METHOD:PUBLISH
X-ORIGINAL-URL:https://millerspointna.org
X-WR-CALDESC:Events for Miller's Point Neighborhood Association, Inc
REFRESH-INTERVAL;VALUE=DURATION:PT1H
X-Robots-Tag:noindex
X-PUBLISHED-TTL:PT1H
BEGIN:VTIMEZONE
TZID:America/Chicago
BEGIN:DAYLIGHT
TZOFFSETFROM:-0600
TZOFFSETTO:-0500
TZNAME:CDT
DTSTART:20250309T080000
END:DAYLIGHT
BEGIN:STANDARD
TZOFFSETFROM:-0500
TZOFFSETTO:-0600
TZNAME:CST
DTSTART:20251102T070000
END:STANDARD
END:VTIMEZONE
BEGIN:VEVENT
DTSTART;TZID=America/Chicago:20250616T180000
DTEND;TZID=America/Chicago:20250616T190000
DTSTAMP:20260425T104744
CREATED:20250617T171822Z
LAST-MODIFIED:20250617T173019Z
UID:5011-1750096800-1750100400@millerspointna.org
SUMMARY:💻MPNA Executive Meeting via Zoom Communications
DESCRIPTION:On Thursday\, June 12th\, an Executive Meeting was rescheduled from Wednesday\, May 21st to Monday\, June 16th.  President’s topics of discussion: \n\n\n\n\n\n\n\n\n\n\nAGENDA\nEXECUTIVE COMMITTEE MEETING\nVia Zoom\, Monday\, June 16\, 7:00 PM\n\nI. CALL TO ORDER\n\nII. ROLL CALL | ESTABLISH QUORUM\n\nIII. Discussion and Vote – Move MPNA Monetary Assets to New Bank\nDue to membership requirements to get access to an account at Randolph-Brooks FCU\, explore moving the MPNA account to a bank that does not have similar requirements.\n\nIV. Review Roles of Executive Committee Members\nReview bylaws and determine how to cover unfilled roles
URL:https://millerspointna.org/event/%f0%9f%92%bbmpna-executive-meeting-via-zoom-communications/
LOCATION:TX
CATEGORIES:Meeting
ATTACH;FMTTYPE=image/jpeg:https://millerspointna.org/wp-content/uploads/2022/01/Picture25.jpg
END:VEVENT
END:VCALENDAR